Workbook
Name BRF: Keuzelijsten_basis!$A$1:$A$13
Name BRFInvoer: Invoer!$H$7
Name BRFUitleg: Invoerinstructie!$A$30
Name Domein: Keuzelijsten_basis!$G$1:$G$4
Name Melder: Keuzelijsten_basis!$P$1:$Q$50
Name OmsRisico: Keuzelijsten_basis!$E$1:$E$5
Name OnderzoekJaNee: Keuzelijsten_basis!$I$1:$I$3
Name TypeIncident: Keuzelijsten_basis!$B$1:$C$7
Name TypeIncidentInvoer: Invoer!$I$7
Name TypeIncidentUitleg: Invoerinstructie!$A$12

Sheet Invoer
A4: mail dit ingevulde formulier naar samenbeter@railalert.nl
A7: ID-nummer melder | B7: Incident datum | C7: Aard van de werkzaamheden | D7: Omschrijving ongewenste situatie/incident | E7: Gevolg/effect van incident | F7: Hoofdoorzaak/ achterliggende oorzaken | G7: Verbetervoorstel/ bijzonderheden | H7: Basis Risico Factor BRF | I7: Type incident | J7: Omschrijving risico | K7: Domein | L7: Incident onderzoek | M7: High potential | N7: Melder
H8: Invoerinstructie | I8: Invoerinstructie | L8: gestart

Sheet Invoerinstructie
A4: Invoerinstructie "Deel een incident"
A6: De meest eenvoudige manier van invoeren is om de regels handmatig in te voeren. Vanaf kolom H zijn dit keuzes uit voorgedefinieerde waardes.
A8: Daar waar de gegevens al digitaal beschikbaar zijn kunnend deze middels kopieren/ plakken in het tabblad Invoer worden ingevoerd. Dit geldt in ieder geval voor de kolommen t/m G.
A10: Heeft uw bedrijf een eigen structuur dan bestaat er de mogelijkheid om in het tabblad 'Keuzelijsten' de waardes uit het eigen systeem toe te voegen. Daarbij kan gekozen worden aan welke railAlert-waarde deze gekoppeld moet worden in de opgave. Vul dan in de linker kolommen de waarde uit het eigen systeem in, en kies in de rechter kolom de waarde in de keuzelijst zoals deze door railAlert aangeboden wordt.
A12: Type incident
A14: Gevaarlijke situatie | B14: Situatie waarbij potentieel gevaar aanwezig is maar die niet heeft geleid tot een ongeval
A16: Bijna ongeval | B16: Een gebeurtenis waarbij de uitvoering van een noodveiligheidsmaatregel (zoals: alarm, snelremming, typhoneren, afzwaaien, wegspringen persoon of herroepen van een sein) dan wel dat op basis van informatie kan worden vastgesteld dat er geen barrieres meer aanwezig waren om een ongeval te voorkomen
A18: Ongeval met schade | B18: Een ongeval met schade van betekenis aan materieel, spoor en/of andere installaties.
A19: Letselongeval zonder verzuim | B19: Ongeval met letsel waarbij het slachtoffer dusdanig letsel heeft opgelopen, maar niet arbeidsongeschikt is geraakt en niet verzuimt (EHBO behandeling valt onder deze definitie)
A21: Letselongeval met verzuim | B21: Ongeval waarbij het slachtoffer dusdanig lestel heeft opgelopen dat er sprake is van verzuim van 1 hele werkdag of meer. Let op! De dag van het ongeval is NIET inbegrepen.
A23: Ongeval met fataal letsel | B23: Iemand is dodelijk gewond als hij of zij bij een ongeval om het leven is gekomen of binnen dertig dagen na het ongeval overlijdt aan het opgelopen letsel, uitgezonderd suicide.
A30: Overzicht BasisRisicoFactoren (BRF'n)
A31: Middelen (MM) | B31: De kwaliteit, conditie, beschikbaarheid en actuele versus verwachte levensduur van materialen, gereedschappen en componenten.
A33: Ontwerp (OW) | B33: De wijze waarop materieel is ontworpen en componenten zijn samengesteld kunnen operaties moeizaam doen verlopen of oneigenlijk gebruik in de hand werken.
A35: Onderhoud (OH) | B35: De effectiviteit van de onderhoudsstrategie met betrekking tot planning, beschikbaarheid van mensen en middelen en vormen van onderhoud.
A37: Procedures (PR) | B37: Het al dan niet voorhanden zijn van nauwkeurige, relevante en begrijpelijke regelgeving (richtlijnen, procedures, instructie, handleidingen), die ook werkelijk worden gekend en gebruikt.
A39: Omgevingsfactoren (OM) | B39: De omstandigheden waaronder mensen werken: (1) Fysieke (werk)omstandigheden zoals hitte, kou, lawaai, duisternis of (2) Medisch, psychisch en sociaal bepaalde factoren zoals ziekte, misbruik, verslaving, attitudes, sfeer.
A41: Orde en netheid (ON) | B41: Orde en netheid op en van de werkomgeving; het beschikbaar zijn van faciliteiten voor opruimen en schoonmaken en de uitvoering hiervan.
A43: Tegenstrijdige doelstellingen (DO) | B43: De tegenstrijdigheid van verschillende doelstellingen, bijvoorbeeld ten aanzien van productie, veiligheid, planning en economische belangen. Ook conflicten tussen de doelstellingen van individuen, groepen en organisaties.
A45: Communicatie (CO) | B45: Gebrekkige communicatie: de doelgroep is bekend maar het 'verzonden' bericht bereikt deze doelgroep te laat of helemaal niet of wordt verkeerd geïnterpreteerd.
A47: Organisatie (OR) | B47: Fouten in de organisatiestructuur met betrekking tot verantwoordelijkheden en bevoegdheden. Dit kan te maken hebben met: Coördinatie, supervisie en de mogelijkheden voor terugkoppeling.
A49: Training en opleiding (TR) | B49: Het verstrekken van de juiste training aan diegenen die dit daadwerkelijk nodig hebben en het geven van gelegenheid ervaring op te doen.
A51: Beschermingsmiddelen en -methoden (BM) | B51: Onvolkomenheden m.b.t. detectie, waarschuwing, herstel, ontsnapping en evacuatie, alsmede het gebruik van beschermingsmiddelen en het voorbereid zijn op noodsituaties.

Sheet Keuzelijsten
A1: Basis Risico Factoren BRF | D1: Type incident | G1: Omschrijving Risico | J1: Domein | M1: Onderzoek gestart | P1: High potential
A2: Eigen invoer | B2: Keuzelijst railAlert | D2: Eigen invoer | E2: Keuzelijst railAlert | G2: Eigen invoer | H2: Keuzelijst railAlert | J2: Eigen invoer | K2: Keuze railAlert | M2: Eigen invoer | N2: Keuzelijst railAlert | P2: Eigen invoer | Q2: Keuze railAlert
A3: Middelen & Materialen | B3: Middelen & Materialen | C3: =AND(A3<>"",B3="") -> FALSE | D3: Gevaarlijke situatie | E3: Gevaarlijke situatie | F3: =AND(D3<>"",E3="") -> FALSE | G3: Aanrijding (met rail- of wegvoertuig) | H3: Aanrijding (met rail- of wegvoertuig) | I3: =AND(G3<>"",H3="") -> FALSE | J3: tram | K3: tram | L3: =AND(J3<>"",K3="") -> FALSE | M3: Ja | N3: Ja | O3: =AND(M3<>"",N3="") -> FALSE | P3: Ja | Q3: Ja | R3: =AND(P3<>"",Q3="") -> FALSE
A4: Ontwerp | B4: Ontwerp | C4: =AND(A4<>"",B4="") -> FALSE | D4: Bijna ongeval | E4: Bijna ongeval | F4: =AND(D4<>"",E4="") -> FALSE | G4: Elektrisering | H4: Elektrisering | I4: =AND(G4<>"",H4="") -> FALSE | J4: trein | K4: trein | L4: =AND(J4<>"",K4="") -> FALSE | M4: Nee | N4: Nee | O4: =AND(M4<>"",N4="") -> FALSE | P4: Nee | Q4: Nee | R4: =AND(P4<>"",Q4="") -> FALSE
A5: Onderhoud | B5: Onderhoud | C5: =AND(A5<>"",B5="") -> FALSE | D5: Ongeval met schade | E5: Ongeval met schade | F5: =AND(D5<>"",E5="") -> FALSE | G5: Overige arbo risico's | H5: Overige arbo risico's | I5: =AND(G5<>"",H5="") -> FALSE | J5: metro | K5: metro | L5: =AND(J5<>"",K5="") -> FALSE | M5: Volgt | N5: Volgt | O5: =AND(M5<>"",N5="") -> FALSE | R5: =AND(P5<>"",Q5="") -> FALSE
A6: Procedures | B6: Procedures | C6: =AND(A6<>"",B6="") -> FALSE | D6: Letselongeval zonder verzuim | E6: Letselongeval zonder verzuim | F6: =AND(D6<>"",E6="") -> FALSE | G6: Anders | H6: Anders | I6: =AND(G6<>"",H6="") -> FALSE | L6: =AND(J6<>"",K6="") -> FALSE | O6: =AND(M6<>"",N6="") -> FALSE | R6: =AND(P6<>"",Q6="") -> FALSE
A7: Omgevingsfactoren | B7: Omgevingsfactoren | C7: =AND(A7<>"",B7="") -> FALSE | D7: Letselongeval met verzuim | E7: Letselongeval met verzuim | F7: =AND(D7<>"",E7="") -> FALSE | I7: =AND(G7<>"",H7="") -> FALSE | L7: =AND(J7<>"",K7="") -> FALSE | O7: =AND(M7<>"",N7="") -> FALSE | R7: =AND(P7<>"",Q7="") -> FALSE
A8: Orde & Netheid | B8: Orde & Netheid | C8: =AND(A8<>"",B8="") -> FALSE | D8: Ongeval met fataal letsel | E8: Ongeval met fataal letsel | F8: =AND(D8<>"",E8="") -> FALSE | I8: =AND(G8<>"",H8="") -> FALSE | L8: =AND(J8<>"",K8="") -> FALSE | O8: =AND(M8<>"",N8="") -> FALSE | R8: =AND(P8<>"",Q8="") -> FALSE
A9: Strijdige doelstellingen | B9: Strijdige doelstellingen | C9: =AND(A9<>"",B9="") -> FALSE | F9: =AND(D9<>"",E9="") -> FALSE | I9: =AND(G9<>"",H9="") -> FALSE | L9: =AND(J9<>"",K9="") -> FALSE | O9: =AND(M9<>"",N9="") -> FALSE | R9: =AND(P9<>"",Q9="") -> FALSE
A10: Communicatie | B10: Communicatie | C10: =AND(A10<>"",B10="") -> FALSE | F10: =AND(D10<>"",E10="") -> FALSE | I10: =AND(G10<>"",H10="") -> FALSE | L10: =AND(J10<>"",K10="") -> FALSE | O10: =AND(M10<>"",N10="") -> FALSE | R10: =AND(P10<>"",Q10="") -> FALSE
A11: Organisatie | B11: Organisatie | C11: =AND(A11<>"",B11="") -> FALSE | F11: =AND(D11<>"",E11="") -> FALSE | I11: =AND(G11<>"",H11="") -> FALSE | L11: =AND(J11<>"",K11="") -> FALSE | O11: =AND(M11<>"",N11="") -> FALSE | R11: =AND(P11<>"",Q11="") -> FALSE
A12: Training & Opleiding | B12: Training & Opleiding | C12: =AND(A12<>"",B12="") -> FALSE | F12: =AND(D12<>"",E12="") -> FALSE | I12: =AND(G12<>"",H12="") -> FALSE | L12: =AND(J12<>"",K12="") -> FALSE | O12: =AND(M12<>"",N12="") -> FALSE | R12: =AND(P12<>"",Q12="") -> FALSE
A13: Beschermingsmiddelen & Methoden | B13: Beschermingsmiddelen & Methoden | C13: =AND(A13<>"",B13="") -> FALSE | F13: =AND(D13<>"",E13="") -> FALSE | I13: =AND(G13<>"",H13="") -> FALSE | L13: =AND(J13<>"",K13="") -> FALSE | O13: =AND(M13<>"",N13="") -> FALSE | R13: =AND(P13<>"",Q13="") -> FALSE
A14: Geen BRF bekend | B14: Geen BRF bekend | C14: =AND(A14<>"",B14="") -> FALSE | F14: =AND(D14<>"",E14="") -> FALSE | I14: =AND(G14<>"",H14="") -> FALSE | L14: =AND(J14<>"",K14="") -> FALSE | O14: =AND(M14<>"",N14="") -> FALSE | R14: =AND(P14<>"",Q14="") -> FALSE
C15: =AND(A15<>"",B15="") -> FALSE | F15: =AND(D15<>"",E15="") -> FALSE | I15: =AND(G15<>"",H15="") -> FALSE | L15: =AND(J15<>"",K15="") -> FALSE | O15: =AND(M15<>"",N15="") -> FALSE | R15: =AND(P15<>"",Q15="") -> FALSE
C16: =AND(A16<>"",B16="") -> FALSE | F16: =AND(D16<>"",E16="") -> FALSE | I16: =AND(G16<>"",H16="") -> FALSE | L16: =AND(J16<>"",K16="") -> FALSE | O16: =AND(M16<>"",N16="") -> FALSE | R16: =AND(P16<>"",Q16="") -> FALSE
C17: =AND(A17<>"",B17="") -> FALSE | F17: =AND(D17<>"",E17="") -> FALSE | I17: =AND(G17<>"",H17="") -> FALSE | L17: =AND(J17<>"",K17="") -> FALSE | O17: =AND(M17<>"",N17="") -> FALSE | R17: =AND(P17<>"",Q17="") -> FALSE
C18: =AND(A18<>"",B18="") -> FALSE | F18: =AND(D18<>"",E18="") -> FALSE | I18: =AND(G18<>"",H18="") -> FALSE | L18: =AND(J18<>"",K18="") -> FALSE | O18: =AND(M18<>"",N18="") -> FALSE | R18: =AND(P18<>"",Q18="") -> FALSE
C19: =AND(A19<>"",B19="") -> FALSE | F19: =AND(D19<>"",E19="") -> FALSE | I19: =AND(G19<>"",H19="") -> FALSE | L19: =AND(J19<>"",K19="") -> FALSE | O19: =AND(M19<>"",N19="") -> FALSE | R19: =AND(P19<>"",Q19="") -> FALSE
C20: =AND(A20<>"",B20="") -> FALSE | F20: =AND(D20<>"",E20="") -> FALSE | I20: =AND(G20<>"",H20="") -> FALSE | L20: =AND(J20<>"",K20="") -> FALSE | O20: =AND(M20<>"",N20="") -> FALSE | R20: =AND(P20<>"",Q20="") -> FALSE
C21: =AND(A21<>"",B21="") -> FALSE | F21: =AND(D21<>"",E21="") -> FALSE | I21: =AND(G21<>"",H21="") -> FALSE | L21: =AND(J21<>"",K21="") -> FALSE | O21: =AND(M21<>"",N21="") -> FALSE | R21: =AND(P21<>"",Q21="") -> FALSE
C22: =AND(A22<>"",B22="") -> FALSE | F22: =AND(D22<>"",E22="") -> FALSE | I22: =AND(G22<>"",H22="") -> FALSE | L22: =AND(J22<>"",K22="") -> FALSE | O22: =AND(M22<>"",N22="") -> FALSE | R22: =AND(P22<>"",Q22="") -> FALSE
C23: =AND(A23<>"",B23="") -> FALSE | F23: =AND(D23<>"",E23="") -> FALSE | I23: =AND(G23<>"",H23="") -> FALSE | L23: =AND(J23<>"",K23="") -> FALSE | O23: =AND(M23<>"",N23="") -> FALSE | R23: =AND(P23<>"",Q23="") -> FALSE
C24: =AND(A24<>"",B24="") -> FALSE | F24: =AND(D24<>"",E24="") -> FALSE | I24: =AND(G24<>"",H24="") -> FALSE | L24: =AND(J24<>"",K24="") -> FALSE | O24: =AND(M24<>"",N24="") -> FALSE | R24: =AND(P24<>"",Q24="") -> FALSE
C25: =AND(A25<>"",B25="") -> FALSE | F25: =AND(D25<>"",E25="") -> FALSE | I25: =AND(G25<>"",H25="") -> FALSE | L25: =AND(J25<>"",K25="") -> FALSE | O25: =AND(M25<>"",N25="") -> FALSE | R25: =AND(P25<>"",Q25="") -> FALSE
C26: =AND(A26<>"",B26="") -> FALSE | F26: =AND(D26<>"",E26="") -> FALSE | I26: =AND(G26<>"",H26="") -> FALSE | L26: =AND(J26<>"",K26="") -> FALSE | O26: =AND(M26<>"",N26="") -> FALSE | R26: =AND(P26<>"",Q26="") -> FALSE
... C101: =AND(A101<>"",B101="") -> FALSE | F101: =AND(D101<>"",E101="") -> FALSE | I101: =AND(G101<>"",H101="") -> FALSE | L101: =AND(J101<>"",K101="") -> FALSE | O101: =AND(M101<>"",N101="") -> FALSE | R101: =AND(P101<>"",Q101="") -> FALSE

Sheet Keuzelijsten_basis
A1: Basis Risico Factoren BRF | C1: Type incident | E1: Omschrijving risico | G1: Domein | I1: Incidentonderzoek (Ja/Nee) | L1: High potential | P1: Melder | Q1: Type Bedrijf | AC1: Gevaarlijke situatie | AD1: Situatie waarbij potentieel gevaar aanwezig is maar die niet heeft geleid tot een ongeval
A2: Middelen & Materialen | C2: Gevaarlijke situatie | E2: Aanrijding (met rail- of wegvoertuig) | G2: tram | I2: Ja | J2: Ja | L2: Ja | P2: Aannemer A | Q2: Aannemer | AC2: Bijna ongeval | AD2: Een gebeurtenis waarbij de uitvoering van een noodveiligheidsmaatregel (zoals: alarm, snelremming, typhoneren, afzwaaien, wegspringen persoon of herroepen van een sein) dan wel dat op basis van informatie kan worden vastgesteld dat er geen barrieres meer aanwezig waren om een ongeval te voorkomen
A3: Ontwerp | C3: Bijna ongeval | E3: Elektrisering | G3: trein | I3: Nee | J3: Nee | L3: Nee | P3: Aannemer B | Q3: Aannemer | AC3: Ongeval met schade | AD3: Een ongeval met schade van betekenis aan materieel, spoor en/of andere installaties.
A4: Onderhoud | C4: Ongeval met schade | E4: Overige arbo risico's | G4: metro | I4: Volgt | J4: Ja | P4: Werkplekbeveiligingsbedrijf C | Q4: WPBV | AC4: Letselongeval zonder verzuim | AD4: Ongeval met letsel waarbij het slachtoffer dusdanig letsel heeft opgelopen, maar niet arbeidsongeschikt is geraakt en niet verzuimt (EHBO behandeling valt onder deze definitie)
A5: Procedures | C5: Letselongeval zonder verzuim | E5: Anders | AC5: Letselongeval met verzuim | AD5: Ongeval waarbij het slachtoffer dusdanig lestel heeft opgelopen dat er sprake is van verzuim van 1 hele werkdag of meer. Let op! De dag van het ongeval is NIET inbegrepen.
A6: Omgevingsfactoren | C6: Letselongeval met verzuim | AC6: Ongeval met fataal letsel | AD6: Iemand is dodelijk gewond als hij of zij bij een ongeval om het leven is gekomen of binnen dertig dagen na het ongeval overlijdt aan het opgelopen letsel, uitgezonderd suicide.
A7: Orde & Netheid | C7: Ongeval met fataal letsel
A8: Strijdige doelstellingen
A9: Communicatie
A10: Organisatie
A11: Training & Opleiding
A12: Beschermingsmiddelen & Methoden
A13: Geen BRF bekend

Sheet Import
A1: =Invoer!A7 -> ID-nummer melder | B1: =Invoer!B7 -> Incident datum | C1: =Invoer!C7 -> Aard van de werkzaamheden | D1: =Invoer!D7 -> Omschrijving ongewenste situatie/incident | E1: =Invoer!E7 -> Gevolg/effect van incident | F1: =Invoer!F7 -> Hoofdoorzaak/ achterliggende oorzaken | G1: =Invoer!G7 -> Verbetervoorstel/ bijzonderheden | H1: =Invoer!H7 -> Basis Risico Factor BRF | ... N1: =Invoer!N7 -> Melder
A2: =IF(Invoer!A9<>"",Invoer!A9,"") | B2: =Invoer!B9 -> 0 | C2: =IF(Invoer!C9<>"",Invoer!C9,"") | D2: =IF(Invoer!D9<>"",Invoer!D9,"") | E2: =IF(Invoer!E9<>"",Invoer!E9,"") | F2: =IF(Invoer!F9<>"",Invoer!F9,"") | G2: =IF(Invoer!G9<>"",Invoer!G9,"") | H2: =_xlfn.IFNA(VLOOKUP(Invoer!H9,Keuzelijsten!$A$3:$B$101,2,FALSE),"(leeg)") -> (leeg) | I2: =_xlfn.IFNA(VLOOKUP(Invoer!I9,Keuzelijsten!$D$3:$E$101,2,FALSE),"(leeg)") -> (leeg) | J2: =_xlfn.IFNA(VLOOKUP(Invoer!J9,Keuzelijsten!$G$3:$H$101,2,FALSE),"(leeg)") -> (leeg) | K2: =_xlfn.IFNA(VLOOKUP(Invoer!K9,Keuzelijsten!$J$3:$K$101,2,FALSE),"(leeg)") -> (leeg) | L2: =_xlfn.IFNA(VLOOKUP(VLOOKUP(Invoer!L9,Keuzelijsten!$M$3:$N$101,2,FALSE),Keuzelijsten_basis!$I$2:$J$100,2,FALSE),"(leeg)") -> (leeg) | M2: =_xlfn.IFNA(VLOOKUP(Invoer!M9,Keuzelijsten!$P$3:$Q$101,2,FALSE),"(leeg)") -> (leeg)
A3: =IF(Invoer!A10<>"",Invoer!A10,"") | B3: =Invoer!B10 -> 0 | C3: =IF(Invoer!C10<>"",Invoer!C10,"") | D3: =IF(Invoer!D10<>"",Invoer!D10,"") | E3: =IF(Invoer!E10<>"",Invoer!E10,"") | F3: =IF(Invoer!F10<>"",Invoer!F10,"") | G3: =IF(Invoer!G10<>"",Invoer!G10,"") | H3: =_xlfn.IFNA(VLOOKUP(Invoer!H10,Keuzelijsten!$A$3:$B$101,2,FALSE),"(leeg)") -> (leeg) | I3: =_xlfn.IFNA(VLOOKUP(Invoer!I10,Keuzelijsten!$D$3:$E$101,2,FALSE),"(leeg)") -> (leeg) | J3: =_xlfn.IFNA(VLOOKUP(Invoer!J10,Keuzelijsten!$G$3:$H$101,2,FALSE),"(leeg)") -> (leeg) | K3: =_xlfn.IFNA(VLOOKUP(Invoer!K10,Keuzelijsten!$J$3:$K$101,2,FALSE),"(leeg)") -> (leeg) | L3: =_xlfn.IFNA(VLOOKUP(VLOOKUP(Invoer!L10,Keuzelijsten!$M$3:$N$101,2,FALSE),Keuzelijsten_basis!$I$2:$J$100,2,FALSE),"(leeg)") -> (leeg) | M3: =_xlfn.IFNA(VLOOKUP(Invoer!M10,Keuzelijsten!$P$3:$Q$101,2,FALSE),"(leeg)") -> (leeg) | N3: =+N2 -> 0
A4: =IF(Invoer!A11<>"",Invoer!A11,"") | B4: =Invoer!B11 -> 0 | C4: =IF(Invoer!C11<>"",Invoer!C11,"") | D4: =IF(Invoer!D11<>"",Invoer!D11,"") | E4: =IF(Invoer!E11<>"",Invoer!E11,"") | F4: =IF(Invoer!F11<>"",Invoer!F11,"") | G4: =IF(Invoer!G11<>"",Invoer!G11,"") | H4: =_xlfn.IFNA(VLOOKUP(Invoer!H11,Keuzelijsten!$A$3:$B$101,2,FALSE),"(leeg)") -> (leeg) | I4: =_xlfn.IFNA(VLOOKUP(Invoer!I11,Keuzelijsten!$D$3:$E$101,2,FALSE),"(leeg)") -> (leeg) | J4: =_xlfn.IFNA(VLOOKUP(Invoer!J11,Keuzelijsten!$G$3:$H$101,2,FALSE),"(leeg)") -> (leeg) | K4: =_xlfn.IFNA(VLOOKUP(Invoer!K11,Keuzelijsten!$J$3:$K$101,2,FALSE),"(leeg)") -> (leeg) | L4: =_xlfn.IFNA(VLOOKUP(VLOOKUP(Invoer!L11,Keuzelijsten!$M$3:$N$101,2,FALSE),Keuzelijsten_basis!$I$2:$J$100,2,FALSE),"(leeg)") -> (leeg) | M4: =_xlfn.IFNA(VLOOKUP(Invoer!M11,Keuzelijsten!$P$3:$Q$101,2,FALSE),"(leeg)") -> (leeg) | N4: =+N3 -> 0
A5: =IF(Invoer!A12<>"",Invoer!A12,"") | B5: =Invoer!B12 -> 0 | C5: =IF(Invoer!C12<>"",Invoer!C12,"") | D5: =IF(Invoer!D12<>"",Invoer!D12,"") | E5: =IF(Invoer!E12<>"",Invoer!E12,"") | F5: =IF(Invoer!F12<>"",Invoer!F12,"") | G5: =IF(Invoer!G12<>"",Invoer!G12,"") | H5: =_xlfn.IFNA(VLOOKUP(Invoer!H12,Keuzelijsten!$A$3:$B$101,2,FALSE),"(leeg)") -> (leeg) | I5: =_xlfn.IFNA(VLOOKUP(Invoer!I12,Keuzelijsten!$D$3:$E$101,2,FALSE),"(leeg)") -> (leeg) | J5: =_xlfn.IFNA(VLOOKUP(Invoer!J12,Keuzelijsten!$G$3:$H$101,2,FALSE),"(leeg)") -> (leeg) | K5: =_xlfn.IFNA(VLOOKUP(Invoer!K12,Keuzelijsten!$J$3:$K$101,2,FALSE),"(leeg)") -> (leeg) | L5: =_xlfn.IFNA(VLOOKUP(VLOOKUP(Invoer!L12,Keuzelijsten!$M$3:$N$101,2,FALSE),Keuzelijsten_basis!$I$2:$J$100,2,FALSE),"(leeg)") -> (leeg) | M5: =_xlfn.IFNA(VLOOKUP(Invoer!M12,Keuzelijsten!$P$3:$Q$101,2,FALSE),"(leeg)") -> (leeg) | N5: =+N4 -> 0
A6: =IF(Invoer!A13<>"",Invoer!A13,"") | B6: =Invoer!B13 -> 0 | C6: =IF(Invoer!C13<>"",Invoer!C13,"") | D6: =IF(Invoer!D13<>"",Invoer!D13,"") | E6: =IF(Invoer!E13<>"",Invoer!E13,"") | F6: =IF(Invoer!F13<>"",Invoer!F13,"") | G6: =IF(Invoer!G13<>"",Invoer!G13,"") | H6: =_xlfn.IFNA(VLOOKUP(Invoer!H13,Keuzelijsten!$A$3:$B$101,2,FALSE),"(leeg)") -> (leeg) | I6: =_xlfn.IFNA(VLOOKUP(Invoer!I13,Keuzelijsten!$D$3:$E$101,2,FALSE),"(leeg)") -> (leeg) | J6: =_xlfn.IFNA(VLOOKUP(Invoer!J13,Keuzelijsten!$G$3:$H$101,2,FALSE),"(leeg)") -> (leeg) | K6: =_xlfn.IFNA(VLOOKUP(Invoer!K13,Keuzelijsten!$J$3:$K$101,2,FALSE),"(leeg)") -> (leeg) | L6: =_xlfn.IFNA(VLOOKUP(VLOOKUP(Invoer!L13,Keuzelijsten!$M$3:$N$101,2,FALSE),Keuzelijsten_basis!$I$2:$J$100,2,FALSE),"(leeg)") -> (leeg) | M6: =_xlfn.IFNA(VLOOKUP(Invoer!M13,Keuzelijsten!$P$3:$Q$101,2,FALSE),"(leeg)") -> (leeg) | N6: =+N5 -> 0
A7: =IF(Invoer!A14<>"",Invoer!A14,"") | B7: =Invoer!B14 -> 0 | C7: =IF(Invoer!C14<>"",Invoer!C14,"") | D7: =IF(Invoer!D14<>"",Invoer!D14,"") | E7: =IF(Invoer!E14<>"",Invoer!E14,"") | F7: =IF(Invoer!F14<>"",Invoer!F14,"") | G7: =IF(Invoer!G14<>"",Invoer!G14,"") | H7: =_xlfn.IFNA(VLOOKUP(Invoer!H14,Keuzelijsten!$A$3:$B$101,2,FALSE),"(leeg)") -> (leeg) | I7: =_xlfn.IFNA(VLOOKUP(Invoer!I14,Keuzelijsten!$D$3:$E$101,2,FALSE),"(leeg)") -> (leeg) | J7: =_xlfn.IFNA(VLOOKUP(Invoer!J14,Keuzelijsten!$G$3:$H$101,2,FALSE),"(leeg)") -> (leeg) | K7: =_xlfn.IFNA(VLOOKUP(Invoer!K14,Keuzelijsten!$J$3:$K$101,2,FALSE),"(leeg)") -> (leeg) | L7: =_xlfn.IFNA(VLOOKUP(VLOOKUP(Invoer!L14,Keuzelijsten!$M$3:$N$101,2,FALSE),Keuzelijsten_basis!$I$2:$J$100,2,FALSE),"(leeg)") -> (leeg) | M7: =_xlfn.IFNA(VLOOKUP(Invoer!M14,Keuzelijsten!$P$3:$Q$101,2,FALSE),"(leeg)") -> (leeg) | N7: =+N6 -> 0
A8: =IF(Invoer!A15<>"",Invoer!A15,"") | B8: =Invoer!B15 -> 0 | C8: =IF(Invoer!C15<>"",Invoer!C15,"") | D8: =IF(Invoer!D15<>"",Invoer!D15,"") | E8: =IF(Invoer!E15<>"",Invoer!E15,"") | F8: =IF(Invoer!F15<>"",Invoer!F15,"") | G8: =IF(Invoer!G15<>"",Invoer!G15,"") | H8: =_xlfn.IFNA(VLOOKUP(Invoer!H15,Keuzelijsten!$A$3:$B$101,2,FALSE),"(leeg)") -> (leeg) | I8: =_xlfn.IFNA(VLOOKUP(Invoer!I15,Keuzelijsten!$D$3:$E$101,2,FALSE),"(leeg)") -> (leeg) | J8: =_xlfn.IFNA(VLOOKUP(Invoer!J15,Keuzelijsten!$G$3:$H$101,2,FALSE),"(leeg)") -> (leeg) | K8: =_xlfn.IFNA(VLOOKUP(Invoer!K15,Keuzelijsten!$J$3:$K$101,2,FALSE),"(leeg)") -> (leeg) | L8: =_xlfn.IFNA(VLOOKUP(VLOOKUP(Invoer!L15,Keuzelijsten!$M$3:$N$101,2,FALSE),Keuzelijsten_basis!$I$2:$J$100,2,FALSE),"(leeg)") -> (leeg) | M8: =_xlfn.IFNA(VLOOKUP(Invoer!M15,Keuzelijsten!$P$3:$Q$101,2,FALSE),"(leeg)") -> (leeg) | N8: =+N7 -> 0
A9: =IF(Invoer!A16<>"",Invoer!A16,"") | B9: =Invoer!B16 -> 0 | C9: =IF(Invoer!C16<>"",Invoer!C16,"") | D9: =IF(Invoer!D16<>"",Invoer!D16,"") | E9: =IF(Invoer!E16<>"",Invoer!E16,"") | F9: =IF(Invoer!F16<>"",Invoer!F16,"") | G9: =IF(Invoer!G16<>"",Invoer!G16,"") | H9: =_xlfn.IFNA(VLOOKUP(Invoer!H16,Keuzelijsten!$A$3:$B$101,2,FALSE),"(leeg)") -> (leeg) | I9: =_xlfn.IFNA(VLOOKUP(Invoer!I16,Keuzelijsten!$D$3:$E$101,2,FALSE),"(leeg)") -> (leeg) | J9: =_xlfn.IFNA(VLOOKUP(Invoer!J16,Keuzelijsten!$G$3:$H$101,2,FALSE),"(leeg)") -> (leeg) | K9: =_xlfn.IFNA(VLOOKUP(Invoer!K16,Keuzelijsten!$J$3:$K$101,2,FALSE),"(leeg)") -> (leeg) | L9: =_xlfn.IFNA(VLOOKUP(VLOOKUP(Invoer!L16,Keuzelijsten!$M$3:$N$101,2,FALSE),Keuzelijsten_basis!$I$2:$J$100,2,FALSE),"(leeg)") -> (leeg) | M9: =_xlfn.IFNA(VLOOKUP(Invoer!M16,Keuzelijsten!$P$3:$Q$101,2,FALSE),"(leeg)") -> (leeg) | N9: =+N8 -> 0
A10: =IF(Invoer!A17<>"",Invoer!A17,"") | B10: =Invoer!B17 -> 0 | C10: =IF(Invoer!C17<>"",Invoer!C17,"") | D10: =IF(Invoer!D17<>"",Invoer!D17,"") | E10: =IF(Invoer!E17<>"",Invoer!E17,"") | F10: =IF(Invoer!F17<>"",Invoer!F17,"") | G10: =IF(Invoer!G17<>"",Invoer!G17,"") | H10: =_xlfn.IFNA(VLOOKUP(Invoer!H17,Keuzelijsten!$A$3:$B$101,2,FALSE),"(leeg)") -> (leeg) | I10: =_xlfn.IFNA(VLOOKUP(Invoer!I17,Keuzelijsten!$D$3:$E$101,2,FALSE),"(leeg)") -> (leeg) | J10: =_xlfn.IFNA(VLOOKUP(Invoer!J17,Keuzelijsten!$G$3:$H$101,2,FALSE),"(leeg)") -> (leeg) | K10: =_xlfn.IFNA(VLOOKUP(Invoer!K17,Keuzelijsten!$J$3:$K$101,2,FALSE),"(leeg)") -> (leeg) | L10: =_xlfn.IFNA(VLOOKUP(VLOOKUP(Invoer!L17,Keuzelijsten!$M$3:$N$101,2,FALSE),Keuzelijsten_basis!$I$2:$J$100,2,FALSE),"(leeg)") -> (leeg) | M10: =_xlfn.IFNA(VLOOKUP(Invoer!M17,Keuzelijsten!$P$3:$Q$101,2,FALSE),"(leeg)") -> (leeg) | N10: =+N9 -> 0
A11: =IF(Invoer!A18<>"",Invoer!A18,"") | B11: =Invoer!B18 -> 0 | C11: =IF(Invoer!C18<>"",Invoer!C18,"") | D11: =IF(Invoer!D18<>"",Invoer!D18,"") | E11: =IF(Invoer!E18<>"",Invoer!E18,"") | F11: =IF(Invoer!F18<>"",Invoer!F18,"") | G11: =IF(Invoer!G18<>"",Invoer!G18,"") | H11: =_xlfn.IFNA(VLOOKUP(Invoer!H18,Keuzelijsten!$A$3:$B$101,2,FALSE),"(leeg)") -> (leeg) | I11: =_xlfn.IFNA(VLOOKUP(Invoer!I18,Keuzelijsten!$D$3:$E$101,2,FALSE),"(leeg)") -> (leeg) | J11: =_xlfn.IFNA(VLOOKUP(Invoer!J18,Keuzelijsten!$G$3:$H$101,2,FALSE),"(leeg)") -> (leeg) | K11: =_xlfn.IFNA(VLOOKUP(Invoer!K18,Keuzelijsten!$J$3:$K$101,2,FALSE),"(leeg)") -> (leeg) | L11: =_xlfn.IFNA(VLOOKUP(VLOOKUP(Invoer!L18,Keuzelijsten!$M$3:$N$101,2,FALSE),Keuzelijsten_basis!$I$2:$J$100,2,FALSE),"(leeg)") -> (leeg) | M11: =_xlfn.IFNA(VLOOKUP(Invoer!M18,Keuzelijsten!$P$3:$Q$101,2,FALSE),"(leeg)") -> (leeg) | N11: =+N10 -> 0
A12: =IF(Invoer!A19<>"",Invoer!A19,"") | B12: =Invoer!B19 -> 0 | C12: =IF(Invoer!C19<>"",Invoer!C19,"") | D12: =IF(Invoer!D19<>"",Invoer!D19,"") | E12: =IF(Invoer!E19<>"",Invoer!E19,"") | F12: =IF(Invoer!F19<>"",Invoer!F19,"") | G12: =IF(Invoer!G19<>"",Invoer!G19,"") | H12: =_xlfn.IFNA(VLOOKUP(Invoer!H19,Keuzelijsten!$A$3:$B$101,2,FALSE),"(leeg)") -> (leeg) | I12: =_xlfn.IFNA(VLOOKUP(Invoer!I19,Keuzelijsten!$D$3:$E$101,2,FALSE),"(leeg)") -> (leeg) | J12: =_xlfn.IFNA(VLOOKUP(Invoer!J19,Keuzelijsten!$G$3:$H$101,2,FALSE),"(leeg)") -> (leeg) | K12: =_xlfn.IFNA(VLOOKUP(Invoer!K19,Keuzelijsten!$J$3:$K$101,2,FALSE),"(leeg)") -> (leeg) | L12: =_xlfn.IFNA(VLOOKUP(VLOOKUP(Invoer!L19,Keuzelijsten!$M$3:$N$101,2,FALSE),Keuzelijsten_basis!$I$2:$J$100,2,FALSE),"(leeg)") -> (leeg) | M12: =_xlfn.IFNA(VLOOKUP(Invoer!M19,Keuzelijsten!$P$3:$Q$101,2,FALSE),"(leeg)") -> (leeg) | N12: =+N11 -> 0
A13: =IF(Invoer!A20<>"",Invoer!A20,"") | B13: =Invoer!B20 -> 0 | C13: =IF(Invoer!C20<>"",Invoer!C20,"") | D13: =IF(Invoer!D20<>"",Invoer!D20,"") | E13: =IF(Invoer!E20<>"",Invoer!E20,"") | F13: =IF(Invoer!F20<>"",Invoer!F20,"") | G13: =IF(Invoer!G20<>"",Invoer!G20,"") | H13: =_xlfn.IFNA(VLOOKUP(Invoer!H20,Keuzelijsten!$A$3:$B$101,2,FALSE),"(leeg)") -> (leeg) | I13: =_xlfn.IFNA(VLOOKUP(Invoer!I20,Keuzelijsten!$D$3:$E$101,2,FALSE),"(leeg)") -> (leeg) | J13: =_xlfn.IFNA(VLOOKUP(Invoer!J20,Keuzelijsten!$G$3:$H$101,2,FALSE),"(leeg)") -> (leeg) | K13: =_xlfn.IFNA(VLOOKUP(Invoer!K20,Keuzelijsten!$J$3:$K$101,2,FALSE),"(leeg)") -> (leeg) | L13: =_xlfn.IFNA(VLOOKUP(VLOOKUP(Invoer!L20,Keuzelijsten!$M$3:$N$101,2,FALSE),Keuzelijsten_basis!$I$2:$J$100,2,FALSE),"(leeg)") -> (leeg) | M13: =_xlfn.IFNA(VLOOKUP(Invoer!M20,Keuzelijsten!$P$3:$Q$101,2,FALSE),"(leeg)") -> (leeg) | N13: =+N12 -> 0
A14: =IF(Invoer!A21<>"",Invoer!A21,"") | B14: =Invoer!B21 -> 0 | C14: =IF(Invoer!C21<>"",Invoer!C21,"") | D14: =IF(Invoer!D21<>"",Invoer!D21,"") | E14: =IF(Invoer!E21<>"",Invoer!E21,"") | F14: =IF(Invoer!F21<>"",Invoer!F21,"") | G14: =IF(Invoer!G21<>"",Invoer!G21,"") | H14: =_xlfn.IFNA(VLOOKUP(Invoer!H21,Keuzelijsten!$A$3:$B$101,2,FALSE),"(leeg)") -> (leeg) | I14: =_xlfn.IFNA(VLOOKUP(Invoer!I21,Keuzelijsten!$D$3:$E$101,2,FALSE),"(leeg)") -> (leeg) | J14: =_xlfn.IFNA(VLOOKUP(Invoer!J21,Keuzelijsten!$G$3:$H$101,2,FALSE),"(leeg)") -> (leeg) | K14: =_xlfn.IFNA(VLOOKUP(Invoer!K21,Keuzelijsten!$J$3:$K$101,2,FALSE),"(leeg)") -> (leeg) | L14: =_xlfn.IFNA(VLOOKUP(VLOOKUP(Invoer!L21,Keuzelijsten!$M$3:$N$101,2,FALSE),Keuzelijsten_basis!$I$2:$J$100,2,FALSE),"(leeg)") -> (leeg) | M14: =_xlfn.IFNA(VLOOKUP(Invoer!M21,Keuzelijsten!$P$3:$Q$101,2,FALSE),"(leeg)") -> (leeg) | N14: =+N13 -> 0
... A100: =IF(Invoer!A107<>"",Invoer!A107,"") | B100: =Invoer!B107 -> 0 | C100: =IF(Invoer!C107<>"",Invoer!C107,"") | D100: =IF(Invoer!D107<>"",Invoer!D107,"") | E100: =IF(Invoer!E107<>"",Invoer!E107,"") | F100: =IF(Invoer!F107<>"",Invoer!F107,"") | G100: =IF(Invoer!G107<>"",Invoer!G107,"") | H100: =_xlfn.IFNA(VLOOKUP(Invoer!H107,Keuzelijsten!$A$3:$B$101,2,FALSE),"(leeg)") -> (leeg) | I100: =_xlfn.IFNA(VLOOKUP(Invoer!I107,Keuzelijsten!$D$3:$E$101,2,FALSE),"(leeg)") -> (leeg) | J100: =_xlfn.IFNA(VLOOKUP(Invoer!J107,Keuzelijsten!$G$3:$H$101,2,FALSE),"(leeg)") -> (leeg) | K100: =_xlfn.IFNA(VLOOKUP(Invoer!K107,Keuzelijsten!$J$3:$K$101,2,FALSE),"(leeg)") -> (leeg) | L100: =_xlfn.IFNA(VLOOKUP(VLOOKUP(Invoer!L107,Keuzelijsten!$M$3:$N$101,2,FALSE),Keuzelijsten_basis!$I$2:$J$100,2,FALSE),"(leeg)") -> (leeg) | M100: =_xlfn.IFNA(VLOOKUP(Invoer!M107,Keuzelijsten!$P$3:$Q$101,2,FALSE),"(leeg)") -> (leeg) | N100: =+N99 -> 0
